BEGIN:VCALENDAR
VERSION:2.0
PRODID:-//Mini Titans - ECPv6.15.20//NONSGML v1.0//EN
CALSCALE:GREGORIAN
METHOD:PUBLISH
X-ORIGINAL-URL:https://minititans.ca
X-WR-CALDESC:Events for Mini Titans
REFRESH-INTERVAL;VALUE=DURATION:PT1H
X-Robots-Tag:noindex
X-PUBLISHED-TTL:PT1H
BEGIN:VTIMEZONE
TZID:America/Edmonton
BEGIN:DAYLIGHT
TZOFFSETFROM:-0700
TZOFFSETTO:-0600
TZNAME:MDT
DTSTART:20250309T090000
END:DAYLIGHT
BEGIN:STANDARD
TZOFFSETFROM:-0600
TZOFFSETTO:-0700
TZNAME:MST
DTSTART:20251102T080000
END:STANDARD
BEGIN:DAYLIGHT
TZOFFSETFROM:-0700
TZOFFSETTO:-0600
TZNAME:MDT
DTSTART:20260308T090000
END:DAYLIGHT
BEGIN:STANDARD
TZOFFSETFROM:-0600
TZOFFSETTO:-0700
TZNAME:MST
DTSTART:20261101T080000
END:STANDARD
BEGIN:DAYLIGHT
TZOFFSETFROM:-0700
TZOFFSETTO:-0600
TZNAME:MDT
DTSTART:20270314T090000
END:DAYLIGHT
BEGIN:STANDARD
TZOFFSETFROM:-0600
TZOFFSETTO:-0700
TZNAME:MST
DTSTART:20271107T080000
END:STANDARD
END:VTIMEZONE
BEGIN:VEVENT
DTSTART;TZID=America/Edmonton:20260323T000000
DTEND;TZID=America/Edmonton:20260327T235959
DTSTAMP:20260419T094525
CREATED:20251124T175429Z
LAST-MODIFIED:20260306T173028Z
UID:10000002-1774224000-1774655999@minititans.ca
SUMMARY:Spring Kids Camp (Haysboro)
DESCRIPTION:Camp Hours\n\n\n\n\n\nDays 1-4:9 am to 4 pm \n\n\n\n\n\n\n\nDay 5:9 am to 3 pmMarket: 3-7 pm
URL:https://minititans.ca/event/braeside-kids-camp/
LOCATION:Haysboro Community Center\, 1204 89 Avenue SW\, Calgary\, AB\, T2V 0W4\, Canada
CATEGORIES:camp
ATTACH;FMTTYPE=image/png:https://minititans.ca/wp-content/uploads/2026/02/Mini-Titans-Camps-featured-image.png
ORGANIZER;CN="Mike Mammel":MAILTO:info@minititans.ca
END:VEVENT
END:VCALENDAR